BEGIN:VCALENDAR
VERSION:2.0
PRODID:SchoolNow
CALSCALE:GREGORIAN
BEGIN:VEVENT
UID:5ccdcc9e-0736-11ef-9311-0a58a9feac02
DTSTAMP:20240430T211233Z
SUMMARY:SHS Theatre presents All Shook Up
DESCRIPTION:SHS Theatre presents All Shook Up\n\nStarkville High School Aud
 itorium\n\nMay 9 - May 11\n\n7:30pm\n\nMay 12\n\n2:30pm\n\nTickets: https:
 //www.showtix4u.com/event-details/83397
LOCATION:Starkville High School Auditorium
URL;VALUE=URI:https://www.starkvillesd.com/arts/calendar/5888319/shs-theatr
 e-presents-all-shook-up-clone-clone-clone
DTSTART:20240512T193000Z
DTEND:20240512T220000Z
END:VEVENT
END:VCALENDAR
