BEGIN:VCALENDAR
VERSION:2.0
PRODID:SchoolNow
CALSCALE:GREGORIAN
BEGIN:VEVENT
UID:a6704e6c-0736-11ef-a617-0e71a91ee947
DTSTAMP:20240430T211437Z
SUMMARY:SHS Gospel Choir Spring Concert
DESCRIPTION:SHS Gospel Choir Spring Concert\nSunday\, May 19\n5:00pm\nGreen
 sboro Center
LOCATION:Greensboro Center
URL;VALUE=URI:https://www.starkvillesd.com/arts/calendar/5888321/shs-gospel
 -choir-spring-concert
DTSTART:20240519T220000Z
DTEND:20240520T000000Z
END:VEVENT
END:VCALENDAR
