BEGIN:VCALENDAR
VERSION:2.0
PRODID:SchoolNow
CALSCALE:GREGORIAN
BEGIN:VEVENT
UID:533b1700-a3bf-11f0-816b-0a58a9feac02
DTSTAMP:20251021T170459Z
SUMMARY:[CANCELLED] Ax of Murder presented by SHS and AJHS Theatre
DESCRIPTION:Ax of Murder presented by SHS and AJHS Theatre\n\nOctober 25 - 
 26\n\n3:00pm\n\nSHS Theatre
LOCATION:Starkville High School Theatre
URL;VALUE=URI:https://www.starkvillesd.com/arts/calendar/8703851/ax-of-murd
 er-presented-by-shs-and-ajhs-theatre-clone
DTSTART:20251026T200000Z
DTEND:20251026T220000Z
END:VEVENT
END:VCALENDAR
