BEGIN:VCALENDAR
VERSION:2.0
PRODID:SchoolNow
CALSCALE:GREGORIAN
BEGIN:VEVENT
UID:7b01e50e-ab65-11f0-aa86-0e95e64832fb
DTSTAMP:20251017T142759Z
SUMMARY:Jacket Soccer VS Madison Central
DESCRIPTION:Jacket Soccer VS Madison Central\n\nGirls 5:30pm / Boys 7:00pm\
 n\nAll matches and times are subject to change
LOCATION:Starkville High School
URL;VALUE=URI:https://www.starkvillesd.com/athletics/calendar/8729517/jacke
 t-soccer-vs-madison-central
DTSTART:20260108T233000Z
DTEND:20260109T023000Z
END:VEVENT
END:VCALENDAR
