BEGIN:VCALENDAR
VERSION:2.0
PRODID:SchoolNow
CALSCALE:GREGORIAN
BEGIN:VEVENT
UID:972e52c6-ab65-11f0-9667-0a58a9feac02
DTSTAMP:20251017T142846Z
SUMMARY:Jacket Soccer AT Oxford
DESCRIPTION:Jacket Soccer AT Oxford\n\nGirls 5:00pm / Boys 7:00pm\n\nAll ma
 tches and times are subject to change
LOCATION:Oxford
URL;VALUE=URI:https://www.starkvillesd.com/athletics/calendar/8729518/jacke
 t-soccer-at-germantown-clone
DTSTART:20260113T230000Z
DTEND:20260114T023000Z
END:VEVENT
END:VCALENDAR
