BEGIN:VCALENDAR
VERSION:2.0
PRODID:SchoolNow
CALSCALE:GREGORIAN
BEGIN:VEVENT
UID:ac695fd2-ab65-11f0-bc0c-0a58a9feac02
DTSTAMP:20251017T142922Z
SUMMARY:Jacket Soccer VS Murrah
DESCRIPTION:Jacket Soccer VS Murrah\n\nGirls 5:30pm / Boys 7:00pm\n\nAll ma
 tches and times are subject to change
LOCATION:Starkville High School
URL;VALUE=URI:https://www.starkvillesd.com/athletics/calendar/8729519/jacke
 t-soccer-vs-murrah
DTSTART:20260115T233000Z
DTEND:20260116T023000Z
END:VEVENT
END:VCALENDAR
