BEGIN:VCALENDAR
VERSION:2.0
PRODID:SchoolNow
CALSCALE:GREGORIAN
BEGIN:VEVENT
UID:c688b9da-ab65-11f0-baff-0a58a9feac02
DTSTAMP:20251017T143005Z
SUMMARY:Jacket Soccer AT Clinton
DESCRIPTION:Jacket Soccer AT Cliinton\n\nGirls 5:00pm / Boys 7:00pm\n\nAll 
 matches and times are subject to change
LOCATION:Clinton
URL;VALUE=URI:https://www.starkvillesd.com/athletics/calendar/8729520/jacke
 t-soccer-at-clinton
DTSTART:20260120T230000Z
DTEND:20260121T023000Z
END:VEVENT
END:VCALENDAR
