BEGIN:VCALENDAR
VERSION:2.0
PRODID:SchoolNow
CALSCALE:GREGORIAN
BEGIN:VEVENT
UID:e19cbe9c-ab65-11f0-afce-0a58a9feac02
DTSTAMP:20251017T143051Z
SUMMARY:Jacket Soccer VS Germantown
DESCRIPTION:Jacket Soccer VS Germantown\n\nGirls 5:30pm / Boys 7:00pm\n\nAl
 l matches and times are subject to change
LOCATION:Starkville High School
URL;VALUE=URI:https://www.starkvillesd.com/athletics/calendar/8729521/jacke
 t-soccer-vs-germantown
DTSTART:20260122T233000Z
DTEND:20260123T023000Z
END:VEVENT
END:VCALENDAR
