BEGIN:VCALENDAR
VERSION:2.0
PRODID:SchoolNow
CALSCALE:GREGORIAN
BEGIN:VEVENT
UID:01727964-ab66-11f0-b65c-0a58a9feac02
DTSTAMP:20251017T143144Z
SUMMARY:Jacket Soccer AT Kosciusko
DESCRIPTION:Jacket Soccer AT Kosciusko\n\nGirls 5:00pm / Boys 7:00pm\n\nAll
  matches and times are subject to change
LOCATION:Kosciusko
URL;VALUE=URI:https://www.starkvillesd.com/athletics/calendar/8729522/jacke
 t-soccer-at-kosciusko
DTSTART:20260126T230000Z
DTEND:20260127T023000Z
END:VEVENT
END:VCALENDAR
