BEGIN:VCALENDAR
VERSION:2.0
PRODID:SchoolNow
CALSCALE:GREGORIAN
BEGIN:VEVENT
UID:213ad46c-ab66-11f0-8bfb-0a58a9feac02
DTSTAMP:20260122T162654Z
SUMMARY:Jacket Soccer AT Kosciusko
DESCRIPTION:Jacket Soccer AT Kosciusko\n\nGirls 5:30pm / Boys 7:00pm\n\nAll
  matches and times are subject to change
LOCATION:Kosciusko
URL;VALUE=URI:https://www.starkvillesd.com/athletics/calendar/8729523/jacke
 t-soccer-vs-northeast-lauderdale
DTSTART:20260129T233000Z
DTEND:20260130T023000Z
END:VEVENT
END:VCALENDAR
