BEGIN:VCALENDAR
VERSION:2.0
PRODID:SchoolNow
CALSCALE:GREGORIAN
BEGIN:VEVENT
UID:1792fd5c-ab95-11f0-90b5-0a58a9feac02
DTSTAMP:20251017T200848Z
SUMMARY:Jacket Basketball AT Memphis Hoopfest (boys and girls)
DESCRIPTION:Jacket Basketball AT Memphis Hoopfest (boys and girls)\n\nTimes
  TBA
LOCATION:Memphis\, TN
URL;VALUE=URI:https://www.starkvillesd.com/athletics/calendar/8730224/jacke
 t-basketball-at-memphis-hoopfest-boys-and-girls
DTSTART;VALUE=DATE:20260102
DTEND;VALUE=DATE:20260103
END:VEVENT
END:VCALENDAR
