BEGIN:VCALENDAR
VERSION:2.0
PRODID:SchoolNow
CALSCALE:GREGORIAN
BEGIN:VEVENT
UID:5de0da90-ab95-11f0-ab2c-0202a3ed5e4b
DTSTAMP:20251017T201046Z
SUMMARY:Jacket Basketball AT Pontotoc Tangle on the Trail (girls only)
DESCRIPTION:Jacket Basketball AT Pontotoc Tangle on the Trail (girls only)\
 n\nTimes TBA
LOCATION:Pontotoc
URL;VALUE=URI:https://www.starkvillesd.com/athletics/calendar/8730225/jacke
 t-basketball-at-pontotoc-tangle-on-the-trail-girls-only
DTSTART;VALUE=DATE:20260103
DTEND;VALUE=DATE:20260104
END:VEVENT
END:VCALENDAR
