BEGIN:VCALENDAR
VERSION:2.0
PRODID:SchoolNow
CALSCALE:GREGORIAN
BEGIN:VEVENT
UID:a346bb9a-ab95-11f0-b9c7-0a58a9feac02
DTSTAMP:20251017T201242Z
SUMMARY:Jacket Basketball AT Clinton
DESCRIPTION:Jacket Basketball AT Clinton\n\n4:00pm JV (Girls/Boys) / 6:00pm
  Girls / 7:30pm Boys
LOCATION:Clinton
URL;VALUE=URI:https://www.starkvillesd.com/athletics/calendar/8730226/jacke
 t-basketball-at-clinton
DTSTART:20260106T220000Z
DTEND:20260107T030000Z
END:VEVENT
END:VCALENDAR
