BEGIN:VCALENDAR
VERSION:2.0
PRODID:SchoolNow
CALSCALE:GREGORIAN
BEGIN:VEVENT
UID:3ec10e80-ab97-11f0-b005-0a58a9feac02
DTSTAMP:20251017T202412Z
SUMMARY:Jacket Basketball VS Madison Central
DESCRIPTION:Jacket Basketball VS Madison Central\n\n4:00pm JV (Girls/Boys) 
 / 6:00pm Girls / 7:30pm Boys
LOCATION:Starkville High School
URL;VALUE=URI:https://www.starkvillesd.com/athletics/calendar/8730238/jacke
 t-basketball-vs-madison-central
DTSTART:20260109T220000Z
DTEND:20260110T030000Z
END:VEVENT
END:VCALENDAR
