BEGIN:VCALENDAR
VERSION:2.0
PRODID:SchoolNow
CALSCALE:GREGORIAN
BEGIN:VEVENT
UID:31d5e046-ab98-11f0-ba62-0a58a9feac02
DTSTAMP:20251017T203100Z
SUMMARY:Jacket Basketball VS Oxford
DESCRIPTION:Jacket Basketball VS Oxford\n\n4:00pm JV (Girls/Boys) / 6:00pm 
 Girls / 7:30pm Boys
LOCATION:Starkville High School
URL;VALUE=URI:https://www.starkvillesd.com/athletics/calendar/8730241/jacke
 t-basketball-vs-oxford
DTSTART:20260113T220000Z
DTEND:20260114T030000Z
END:VEVENT
END:VCALENDAR
