BEGIN:VCALENDAR
VERSION:2.0
PRODID:SchoolNow
CALSCALE:GREGORIAN
BEGIN:VEVENT
UID:070eff5e-ab99-11f0-afe7-0e0bb08c8645
DTSTAMP:20251017T203714Z
SUMMARY:Jacket Basketball AT Murrah
DESCRIPTION:Jacket Basketball AT Murrah\n\n4:00pm JV (Girls/Boys) / 6:00pm 
 Girls / 7:30pm Boys
LOCATION:Murrah
URL;VALUE=URI:https://www.starkvillesd.com/athletics/calendar/8730243/jacke
 t-basketball-at-murrah
DTSTART:20260116T220000Z
DTEND:20260117T030000Z
END:VEVENT
END:VCALENDAR
