BEGIN:VCALENDAR
VERSION:2.0
PRODID:SchoolNow
CALSCALE:GREGORIAN
BEGIN:VEVENT
UID:453e071a-ab9a-11f0-921b-02a4029116f3
DTSTAMP:20251017T204552Z
SUMMARY:Jacket Basketball VS Germantown
DESCRIPTION:Jacket Basketball VS Germantown\n\n4:00pm JV (Girls/Boys) / 6:0
 0pm Girls / 7:30pm Boys
LOCATION:Starkville High School
URL;VALUE=URI:https://www.starkvillesd.com/athletics/calendar/8730253/jacke
 t-basketball-vs-germantown
DTSTART:20260120T220000Z
DTEND:20260121T030000Z
END:VEVENT
END:VCALENDAR
