BEGIN:VCALENDAR
VERSION:2.0
PRODID:SchoolNow
CALSCALE:GREGORIAN
BEGIN:VEVENT
UID:6fc4e15c-ab9a-11f0-8525-0a58a9feac02
DTSTAMP:20260121T213624Z
SUMMARY:Jacket Basketball VS Clinton (rescheduled for Jan 22)
DESCRIPTION:Jacket Basketball VS Clinton\n\n4:00pm JV (Girls/Boys) / 6:00pm
  Girls / 7:30pm Boys
LOCATION:Starkville High School
URL;VALUE=URI:https://www.starkvillesd.com/athletics/calendar/8730254/jacke
 t-basketball-vs-clinton
DTSTART:20260122T220000Z
DTEND:20260123T030000Z
END:VEVENT
END:VCALENDAR
