BEGIN:VCALENDAR
VERSION:2.0
PRODID:SchoolNow
CALSCALE:GREGORIAN
BEGIN:VEVENT
UID:a1ecc046-ab9a-11f0-acbd-0a58a9feac02
DTSTAMP:20251017T204827Z
SUMMARY:Jacket Basketball AT New Albany Hotbed Classic (boys only)
DESCRIPTION:Jacket Basketball AT New Albany Hotbed Classic (boys only)\n\nT
 imes TBA
LOCATION:New Albany
URL;VALUE=URI:https://www.starkvillesd.com/athletics/calendar/8730255/jacke
 t-basketball-at-new-albany-hotbed-classic-boys-only
DTSTART;VALUE=DATE:20260124
DTEND;VALUE=DATE:20260125
END:VEVENT
END:VCALENDAR
