BEGIN:VCALENDAR
VERSION:2.0
PRODID:SchoolNow
CALSCALE:GREGORIAN
BEGIN:VEVENT
UID:d38a0398-ab9a-11f0-875d-0a58a9feac02
DTSTAMP:20251017T204951Z
SUMMARY:Jacket Basketball AT Madison Central
DESCRIPTION:Jacket Basketball AT Madison Central\n\n4:00pm JV (Girls/Boys) 
 / 6:00pm Girls / 7:30pm Boys
LOCATION:Madison Central
URL;VALUE=URI:https://www.starkvillesd.com/athletics/calendar/8730256/jacke
 t-basketball-at-madison-central
DTSTART:20260127T220000Z
DTEND:20260128T030000Z
END:VEVENT
END:VCALENDAR
