BEGIN:VCALENDAR
VERSION:2.0
PRODID:SchoolNow
CALSCALE:GREGORIAN
BEGIN:VEVENT
UID:fa408e94-ab9a-11f0-83ec-0a58a9feac02
DTSTAMP:20251017T205056Z
SUMMARY:Jacket Basketball AT Oxford
DESCRIPTION:Jacket Basketball AT Oxford\n\n4:00pm JV (Girls/Boys) / 6:00pm 
 Girls / 7:30pm Boys
LOCATION:Oxford
URL;VALUE=URI:https://www.starkvillesd.com/athletics/calendar/8730257/jacke
 t-basketball-at-oxford
DTSTART:20260130T220000Z
DTEND:20260131T030000Z
END:VEVENT
END:VCALENDAR
