BEGIN:VCALENDAR
VERSION:2.0
PRODID:SchoolNow
CALSCALE:GREGORIAN
BEGIN:VEVENT
UID:29a5726c-ab9b-11f0-90ae-0a58a9feac02
DTSTAMP:20260121T213808Z
SUMMARY:Jacket Basketball VS Murrah (Senior Night)
DESCRIPTION:Jacket Basketball VS Murrah\n\n6:00pm Girls / 7:30pm Boys
LOCATION:Starkville High School
URL;VALUE=URI:https://www.starkvillesd.com/athletics/calendar/8730258/jacke
 t-basketball-vs-murrah-girls-only
DTSTART:20260204T000000Z
DTEND:20260204T013000Z
END:VEVENT
END:VCALENDAR
