BEGIN:VCALENDAR
VERSION:2.0
PRODID:SchoolNow
CALSCALE:GREGORIAN
BEGIN:VEVENT
UID:5215dd18-ab9b-11f0-aaf9-0202a3ed5e4b
DTSTAMP:20260122T001631Z
SUMMARY:Jacket Basketball AT Germantown
DESCRIPTION:Jacket Basketball AT Germantown\n\n5:00pm JV (Girls) / 6:00pm G
 irls / 7:30pm Boys
LOCATION:Germantown
URL;VALUE=URI:https://www.starkvillesd.com/athletics/calendar/8730259/jacke
 t-basketball-at-germantown
DTSTART:20260206T230000Z
DTEND:20260207T020000Z
END:VEVENT
END:VCALENDAR
