BEGIN:VCALENDAR
VERSION:2.0
PRODID:SchoolNow
CALSCALE:GREGORIAN
BEGIN:VEVENT
UID:3cd279d6-d12d-11f0-a877-02ac339edba7
DTSTAMP:20251204T162107Z
SUMMARY:Jacket Wrestling VS North Pontotoc Dual Meet (tentative)
DESCRIPTION:Jacket Wrestling\n\nBoys and Girls\n\nDual Meet VS North Pontot
 oc\n\n(Starkville\, North Pontotoc)
LOCATION:Starkville\, MS
URL;VALUE=URI:https://www.starkvillesd.com/athletics/calendar/8817315/jacke
 t-wrestling-vs-north-pontotoc-dual-meet-tentative
DTSTART;VALUE=DATE:20260108
DTEND;VALUE=DATE:20260109
END:VEVENT
END:VCALENDAR
