BEGIN:VCALENDAR
VERSION:2.0
PRODID:SchoolNow
CALSCALE:GREGORIAN
BEGIN:VEVENT
UID:5e93316e-d12d-11f0-b0f1-02ac339edba7
DTSTAMP:20251204T162203Z
SUMMARY:Jacket Wrestling AT Center Hill Individual Tournament
DESCRIPTION:Jacket Wrestling\n\nBoys and Girls\n\nCenter Hill Individual To
 urnament
LOCATION:Center Hill
URL;VALUE=URI:https://www.starkvillesd.com/athletics/calendar/8817316/jacke
 t-wrestling-at-center-hill-individual-tournament
DTSTART;VALUE=DATE:20260110
DTEND;VALUE=DATE:20260111
END:VEVENT
END:VCALENDAR
