BEGIN:VCALENDAR
VERSION:2.0
PRODID:SchoolNow
CALSCALE:GREGORIAN
BEGIN:VEVENT
UID:9fc0cba2-f16b-11f0-801c-0a58a9feac02
DTSTAMP:20260114T170819Z
SUMMARY:Jacket Wrestling AT New Albany
LOCATION:New Albany
URL;VALUE=URI:https://www.starkvillesd.com/athletics/calendar/8836107/jacke
 t-wrestling-at-new-albany
DTSTART;VALUE=DATE:20260127
DTEND;VALUE=DATE:20260128
END:VEVENT
END:VCALENDAR
