BEGIN:VCALENDAR
VERSION:2.0
PRODID:SchoolNow
CALSCALE:GREGORIAN
BEGIN:VEVENT
UID:00f720bc-f192-11f0-a5e9-0ecb381305cd
DTSTAMP:20260114T214303Z
SUMMARY:Jacket Track: Starkville Season Opener Meet
LOCATION:Yellow Jacket Stadium
URL;VALUE=URI:https://www.starkvillesd.com/athletics/calendar/8836458/jacke
 t-track-starkville-season-opener-meet
DTSTART:20260212T193000Z
DTEND:20260212T233000Z
END:VEVENT
END:VCALENDAR
