BEGIN:VCALENDAR
VERSION:2.0
PRODID:SchoolNow
CALSCALE:GREGORIAN
BEGIN:VEVENT
UID:24014bf0-f192-11f0-8667-0affd2d19d5b
DTSTAMP:20260114T214402Z
SUMMARY:Jacket Track: Meridian High School Wildcat Relays
LOCATION:Meridian
URL;VALUE=URI:https://www.starkvillesd.com/athletics/calendar/8836459/jacke
 t-track-meridian-high-school-wildcat-relays
DTSTART:20260223T210000Z
DTEND:20260224T010000Z
END:VEVENT
END:VCALENDAR
