BEGIN:VCALENDAR
VERSION:2.0
PRODID:SchoolNow
CALSCALE:GREGORIAN
BEGIN:VEVENT
UID:34c9e3b6-f192-11f0-a8bd-0ebcdc9782fd
DTSTAMP:20260114T214529Z
SUMMARY:Jacket Track: Yellow Jacket Invitational
LOCATION:Yellow Jacket Stadium
URL;VALUE=URI:https://www.starkvillesd.com/athletics/calendar/8836460/jacke
 t-track-yellow-jacket-invitational
DTSTART:20260305T193000Z
DTEND:20260305T233000Z
END:VEVENT
END:VCALENDAR
