BEGIN:VCALENDAR
VERSION:2.0
PRODID:SchoolNow
CALSCALE:GREGORIAN
BEGIN:VEVENT
UID:4df8fbf6-f192-11f0-9328-0a58a9feac02
DTSTAMP:20260114T214512Z
SUMMARY:Jacket Track: Titan Invitational
LOCATION:Ridgeland
URL;VALUE=URI:https://www.starkvillesd.com/athletics/calendar/8836463/jacke
 t-track-titan-invitational
DTSTART:20260319T193000Z
DTEND:20260319T233000Z
END:VEVENT
END:VCALENDAR
