BEGIN:VCALENDAR
VERSION:2.0
PRODID:SchoolNow
CALSCALE:GREGORIAN
BEGIN:VEVENT
UID:6a7ad074-f192-11f0-8a81-0afff1174013
DTSTAMP:20260114T214600Z
SUMMARY:Jacket Track: Starkville Invitational
LOCATION:Yellow Jacket Stadium
URL;VALUE=URI:https://www.starkvillesd.com/athletics/calendar/8836464/jacke
 t-track-starkville-invitational
DTSTART:20260326T183000Z
DTEND:20260326T223000Z
END:VEVENT
END:VCALENDAR
