BEGIN:VCALENDAR
VERSION:2.0
PRODID:SchoolNow
CALSCALE:GREGORIAN
BEGIN:VEVENT
UID:8678bf8e-f192-11f0-afec-0a58a9feac02
DTSTAMP:20260114T214647Z
SUMMARY:Jacket Track: Oxford Invitational
LOCATION:Oxford
URL;VALUE=URI:https://www.starkvillesd.com/athletics/calendar/8836465/jacke
 t-track-oxford-invitational
DTSTART:20260402T150000Z
DTEND:20260402T190000Z
END:VEVENT
END:VCALENDAR
