BEGIN:VCALENDAR
VERSION:2.0
PRODID:SchoolNow
CALSCALE:GREGORIAN
BEGIN:VEVENT
UID:9b77d30c-f192-11f0-bbda-0afff1174013
DTSTAMP:20260114T214722Z
SUMMARY:Jacket Track: Woody Barnet Invitational
LOCATION:Pearl
URL;VALUE=URI:https://www.starkvillesd.com/athletics/calendar/8836466/jacke
 t-track-woody-barnet-invitational
DTSTART:20260410T170000Z
DTEND:20260410T210000Z
END:VEVENT
END:VCALENDAR
