BEGIN:VCALENDAR
VERSION:2.0
PRODID:SchoolNow
CALSCALE:GREGORIAN
BEGIN:VEVENT
UID:c223e928-f192-11f0-9a7d-0a58a9feac02
DTSTAMP:20260331T175328Z
SUMMARY:Jacket Track: Region 2-7A Championship
LOCATION:Clinton
URL;VALUE=URI:https://www.starkvillesd.com/athletics/calendar/8836467/jacke
 t-track-region-2-7a-championship
DTSTART;VALUE=DATE:20260417
DTEND;VALUE=DATE:20260418
END:VEVENT
END:VCALENDAR
