BEGIN:VCALENDAR
VERSION:2.0
PRODID:SchoolNow
CALSCALE:GREGORIAN
BEGIN:VEVENT
UID:dad683cc-f192-11f0-927a-0e0325d27b43
DTSTAMP:20260331T175246Z
SUMMARY:Jacket Track: 7A North State Championship
LOCATION:Clinton
URL;VALUE=URI:https://www.starkvillesd.com/athletics/calendar/8836468/jacke
 t-track-7a-north-state-championship
DTSTART;VALUE=DATE:20260417
DTEND;VALUE=DATE:20260418
END:VEVENT
END:VCALENDAR
