BEGIN:VCALENDAR
VERSION:2.0
PRODID:SchoolNow
CALSCALE:GREGORIAN
BEGIN:VEVENT
UID:fbf29866-f192-11f0-92a3-0a58a9feac02
DTSTAMP:20260331T175227Z
SUMMARY:Jacket Track: 7A State Championship
LOCATION:Pearl
URL;VALUE=URI:https://www.starkvillesd.com/athletics/calendar/8836469/jacke
 t-track-7a-state-championship
DTSTART;VALUE=DATE:20260502
DTEND;VALUE=DATE:20260503
END:VEVENT
END:VCALENDAR
