BEGIN:VCALENDAR
VERSION:2.0
PRODID:SchoolNow
CALSCALE:GREGORIAN
BEGIN:VEVENT
UID:ade3c722-010e-11f1-a592-0a58a9feac02
DTSTAMP:20260203T144318Z
SUMMARY:Jacket Archery VS Starkville Academy
URL;VALUE=URI:https://www.starkvillesd.com/athletics/calendar/8848447/jacke
 t-archery-vs-starkville-academy
DTSTART:20260203T230000Z
DTEND:20260204T000000Z
END:VEVENT
END:VCALENDAR
