BEGIN:VCALENDAR
VERSION:2.0
PRODID:SchoolNow
CALSCALE:GREGORIAN
BEGIN:VEVENT
UID:ed0cf11c-010e-11f1-937d-0265e1c2a3bd
DTSTAMP:20260203T144504Z
SUMMARY:Jacket Archery AT Houston
URL;VALUE=URI:https://www.starkvillesd.com/athletics/calendar/8848448/jacke
 t-archery-at-houston
DTSTART:20260205T230000Z
DTEND:20260206T000000Z
END:VEVENT
END:VCALENDAR
