BEGIN:VCALENDAR
VERSION:2.0
PRODID:SchoolNow
CALSCALE:GREGORIAN
BEGIN:VEVENT
UID:1947430e-010f-11f1-9443-0e4dd4d2865b
DTSTAMP:20260203T144618Z
SUMMARY:Jacket Archery AT Starkville Academy
URL;VALUE=URI:https://www.starkvillesd.com/athletics/calendar/8848449/jacke
 t-archery-at-starkville-academy
DTSTART:20260210T230000Z
DTEND:20260211T000000Z
END:VEVENT
END:VCALENDAR
