BEGIN:VCALENDAR
VERSION:2.0
PRODID:SchoolNow
CALSCALE:GREGORIAN
BEGIN:VEVENT
UID:d26c69b0-01da-11f1-a1e9-0e0a1100e6c7
DTSTAMP:20260204T150513Z
SUMMARY:Jacket Archery VS Louisville & Choctaw
URL;VALUE=URI:https://www.starkvillesd.com/athletics/calendar/8849302/jacke
 t-archery-vs-louisville-choctaw
DTSTART:20260212T230000Z
DTEND:20260213T000000Z
END:VEVENT
END:VCALENDAR
