BEGIN:VCALENDAR
VERSION:2.0
PRODID:SchoolNow
CALSCALE:GREGORIAN
BEGIN:VEVENT
UID:952b15f6-01e9-11f1-b774-0a58a9feac02
DTSTAMP:20260204T165016Z
SUMMARY:Meet the Jackets (7th-12th grade Spring Sports)
LOCATION:SHS Baseball Stadium
URL;VALUE=URI:https://www.starkvillesd.com/athletics/calendar/8849307/meet-
 the-jackets-7th-12th-grade-spring-sports
DTSTART:20260207T000000Z
DTEND:20260207T010000Z
END:VEVENT
END:VCALENDAR
