BEGIN:VCALENDAR
VERSION:2.0
PRODID:SchoolNow
CALSCALE:GREGORIAN
BEGIN:VEVENT
UID:3684fd78-01fd-11f1-97e5-0e4dd4d2865b
DTSTAMP:20260215T192010Z
SUMMARY:Jacket Archery VS Hatley & Starkville Christian
DESCRIPTION:Starkville vs Hatley & Starkville Christian \nHWS\n5:00pm
URL;VALUE=URI:https://www.starkvillesd.com/athletics/calendar/8849494/jacke
 t-archery-vs-hatley-starkville-christian
DTSTART:20260217T230000Z
DTEND:20260218T010000Z
END:VEVENT
END:VCALENDAR
