BEGIN:VCALENDAR
VERSION:2.0
PRODID:SchoolNow
CALSCALE:GREGORIAN
BEGIN:VEVENT
UID:5f0ac138-01fd-11f1-9433-0e4dd4d2865b
DTSTAMP:20260215T192131Z
SUMMARY:Jacket Archery VS Houston
DESCRIPTION:Starkville vs Houston\nHWS\n5:00pm
URL;VALUE=URI:https://www.starkvillesd.com/athletics/calendar/8849495/jacke
 t-archery-vs-houston
DTSTART:20260219T230000Z
DTEND:20260220T010000Z
END:VEVENT
END:VCALENDAR
