BEGIN:VCALENDAR
VERSION:2.0
PRODID:SchoolNow
CALSCALE:GREGORIAN
BEGIN:VEVENT
UID:d82ca23e-01fd-11f1-9eb4-0e0a1100e6c7
DTSTAMP:20260204T191519Z
SUMMARY:Jacket Archery IBO NASP 3D Tournament
URL;VALUE=URI:https://www.starkvillesd.com/athletics/calendar/8849496/jacke
 t-archery-ibo-nasp-3d-tournament
DTSTART:20260221T150000Z
DTEND:20260221T223000Z
END:VEVENT
END:VCALENDAR
