BEGIN:VCALENDAR
VERSION:2.0
PRODID:SchoolNow
CALSCALE:GREGORIAN
BEGIN:VEVENT
UID:688c4c52-01ff-11f1-87eb-0e0a1100e6c7
DTSTAMP:20260215T192658Z
SUMMARY:Jacket Archery VS Tupelo
DESCRIPTION:Starkville vs Tupelo\nHWS\n5:00pm
URL;VALUE=URI:https://www.starkvillesd.com/athletics/calendar/8849499/jacke
 t-archery-vs-tupelo
DTSTART:20260224T230000Z
DTEND:20260225T010000Z
END:VEVENT
END:VCALENDAR
