BEGIN:VCALENDAR
VERSION:2.0
PRODID:SchoolNow
CALSCALE:GREGORIAN
BEGIN:VEVENT
UID:f6f5df8e-0200-11f1-9367-0265e1c2a3bd
DTSTAMP:20260215T192905Z
SUMMARY:Jacket Archery AT Hatley
DESCRIPTION:Starkville vs Hatley\nHatley (Hatley Attendance Center\, 60286 
 Hatley Rd. Amory\, MS)\n5:00pm
URL;VALUE=URI:https://www.starkvillesd.com/athletics/calendar/8849502/jacke
 t-archery-at-hatley
DTSTART:20260226T230000Z
DTEND:20260227T010000Z
END:VEVENT
END:VCALENDAR
