BEGIN:VCALENDAR
VERSION:2.0
PRODID:SchoolNow
CALSCALE:GREGORIAN
BEGIN:VEVENT
UID:89d7ded8-0201-11f1-a8cb-0a58a9feac02
DTSTAMP:20260215T193105Z
SUMMARY:Jacket Archery AT Pontotoc Tournament
DESCRIPTION:Starkville at Pontotoc Tournament\nPontotoc Agri Center 430 CJ 
 Hardin Jr. Dr\, Pontotoc\, MS\n9:00am
URL;VALUE=URI:https://www.starkvillesd.com/athletics/calendar/8849503/jacke
 t-archery-at-pontotoc-tournament
DTSTART;VALUE=DATE:20260228
DTEND;VALUE=DATE:20260301
END:VEVENT
END:VCALENDAR
