BEGIN:VCALENDAR
VERSION:2.0
PRODID:SchoolNow
CALSCALE:GREGORIAN
BEGIN:VEVENT
UID:d76e18e2-0201-11f1-9cc9-0a58a9feac02
DTSTAMP:20260215T193312Z
SUMMARY:Jacket Archery AT Tupelo
DESCRIPTION:Starkville vs Tupelo\nTupelo High School 4125 Golden Wave Rd\, 
 Tupelo\, MS\n5:00pm
URL;VALUE=URI:https://www.starkvillesd.com/athletics/calendar/8849504/jacke
 t-archery-at-tupelo
DTSTART:20260303T230000Z
DTEND:20260304T010000Z
END:VEVENT
END:VCALENDAR
