BEGIN:VCALENDAR
VERSION:2.0
PRODID:SchoolNow
CALSCALE:GREGORIAN
BEGIN:VEVENT
UID:2aeeb7ce-0202-11f1-b857-0affd1487523
DTSTAMP:20260215T193450Z
SUMMARY:Jacket Archery AT Choctaw
DESCRIPTION:Starkville vs Choctaw\nChoctaw\, Weir Elementary Gym 351 Marion
  Kelly Dr\, Weir\, MS\n5:00pm
URL;VALUE=URI:https://www.starkvillesd.com/athletics/calendar/8849505/jacke
 t-archery-at-choctaw
DTSTART:20260305T230000Z
DTEND:20260306T010000Z
END:VEVENT
END:VCALENDAR
