BEGIN:VCALENDAR
VERSION:2.0
PRODID:SchoolNow
CALSCALE:GREGORIAN
BEGIN:VEVENT
UID:57862b5a-0202-11f1-ab1d-0a58a9feac02
DTSTAMP:20260215T194403Z
SUMMARY:Jacket Archery VS Starkville Academy Xtreme
DESCRIPTION:Starkville vs Starkville Academy\nHWS\n5:00pm
URL;VALUE=URI:https://www.starkvillesd.com/athletics/calendar/8849506/jacke
 t-archery-vs-starkville-academy-xtreme
DTSTART:20260330T220000Z
DTEND:20260330T230000Z
END:VEVENT
END:VCALENDAR
